BEGIN:VCALENDAR
VERSION:2.0
PRODID:-//Strategic Straits - ECPv5.9.1//NONSGML v1.0//EN
CALSCALE:GREGORIAN
METHOD:PUBLISH
X-WR-CALNAME:Strategic Straits
X-ORIGINAL-URL:https://strategicstraitsinc.com
X-WR-CALDESC:Events for Strategic Straits
BEGIN:VTIMEZONE
TZID:UTC
BEGIN:STANDARD
TZOFFSETFROM:+0000
TZOFFSETTO:+0000
TZNAME:UTC
DTSTART:20190101T000000
END:STANDARD
END:VTIMEZONE
BEGIN:VEVENT
DTSTART;TZID=UTC:20191011T093000
DTEND;TZID=UTC:20191011T103000
DTSTAMP:20260421T083808
CREATED:20190926T140541Z
LAST-MODIFIED:20190926T140701Z
UID:991-1570786200-1570789800@strategicstraitsinc.com
SUMMARY:U.S. - Turkey Trade and Investment through the State of Maryland
DESCRIPTION:Join this session to understand the potential of the State of Maryland in growing your business in the U.S. market\, the region and globally. \nFor detailed information and to register please click here. \nLooking forward to productive conversations. \nThe StrategicStraits Team
URL:https://strategicstraitsinc.com/event/u-s-turkey-trade-and-investment-through-the-state-of-maryland/
LOCATION:Online Event
END:VEVENT
END:VCALENDAR